BEGIN:VCALENDAR
VERSION:2.0
PRODID:-//communityadvocates.net//NONSGML kigkonsult.se iCalcreator 2.30.10
 //
CALSCALE:GREGORIAN
METHOD:PUBLISH
UID:431c864d-18a1-424c-bc5c-7582a5d395bb
X-WR-CALDESC:This event is part of Light and Unite Red Week.\n\n<b>Please N
 ote: The Youth Mental Health First Aid course consists of two hours of sel
 f-paced content followed by six hours of instructor-led training. The self
 -paced computer training must be completed at least three days prior to th
 e beginning of the course and the one-hour self-paced post session compute
 r training must be completed as well in order for attendees to obtain cert
 ification. Registration ends March 12 at 12 noon.</b>\n\nYouth Mental Heal
 th First Aid is designed to teach parents\, family members\, caregivers\, 
 teachers\, school staff\, peers\, neighbors\, health and human services wo
 rkers\, and other caring citizens how to help an adolescent (age 12-18) wh
 o might be experiencing a mental health challenge or is in crisis.\n\nYout
 h Mental Health First Aid is primarily designed for adults who regularly i
 nteract with young people. The course introduces common mental health chal
 lenges for youth\, reviews typical adolescent development\, and teaches a 
 5-step action plan for how to help young people in both crisis and non-cri
 sis situations. Topics covered include anxiety\, depression\, substance us
 e\, disorders in which psychosis may occur\, disruptive behavior disorders
  (including AD/HD)\, and eating disorders.\n\nThe training will be hosted 
 by YMHFA Certified Instructor Cecilia Eva Tenorio\, Mental Health and Well
 ness Coordinator at Community Advocates Public Policy Institute. For any a
 dditional questions or if you would like to set up a meeting to discuss de
 tails and logistics of the training\, please email Cecilia Tenorio at cten
 orio@communityadvocates.net\n\nCommunity Advocates PPI is pleased to be ab
 le to offer this training valued at $170 at no cost to participants made p
 ossible through Mental Health Awareness Training (MHAT) grant funding. We 
 look forward to hearing from you!
X-WR-RELCALID:94399d9ee3e69cd64f55cd12a6b814f1
X-WR-TIMEZONE:America/Chicago
BEGIN:VTIMEZONE
TZID:America/Chicago
BEGIN:STANDARD
TZNAME:CST
DTSTART:20241103T020000
TZOFFSETFROM:-0500
TZOFFSETTO:-0600
RDATE:20251102T020000
END:STANDARD
BEGIN:DAYLIGHT
TZNAME:CDT
DTSTART:20250309T020000
TZOFFSETFROM:-0600
TZOFFSETTO:-0500
RDATE:20260308T020000
END:DAYLIGHT
END:VTIMEZONE
BEGIN:VEVENT
UID:d7bfe3c7-eef2-4c9b-a4e8-8530d691cf16
DTSTAMP:20260421T040013Z
DESCRIPTION:This event is part of Light and Unite Red Week.\n\n<b>Please No
 te: The Youth Mental Health First Aid course consists of two hours of self
 -paced content followed by six hours of instructor-led training. The self-
 paced computer training must be completed at least three days prior to the
  beginning of the course and the one-hour self-paced post session computer
  training must be completed as well in order for attendees to obtain certi
 fication. Registration ends March 12 at 12 noon.</b>\n\nYouth Mental Healt
 h First Aid is designed to teach parents\, family members\, caregivers\, t
 eachers\, school staff\, peers\, neighbors\, health and human services wor
 kers\, and other caring citizens how to help an adolescent (age 12-18) who
  might be experiencing a mental health challenge or is in crisis.\n\nYouth
  Mental Health First Aid is primarily designed for adults who regularly in
 teract with young people. The course introduces common mental health chall
 enges for youth\, reviews typical adolescent development\, and teaches a 5
 -step action plan for how to help young people in both crisis and non-cris
 is situations. Topics covered include anxiety\, depression\, substance use
 \, disorders in which psychosis may occur\, disruptive behavior disorders 
 (including AD/HD)\, and eating disorders.\n\nThe training will be hosted b
 y YMHFA Certified Instructor Cecilia Eva Tenorio\, Mental Health and Welln
 ess Coordinator at Community Advocates Public Policy Institute. For any ad
 ditional questions or if you would like to set up a meeting to discuss det
 ails and logistics of the training\, please email Cecilia Tenorio at cteno
 rio@communityadvocates.net\n\nCommunity Advocates PPI is pleased to be abl
 e to offer this training valued at $170 at no cost to participants made po
 ssible through Mental Health Awareness Training (MHAT) grant funding. We l
 ook forward to hearing from you!
DTSTART;TZID=America/Chicago:20250319T090000
DTEND;TZID=America/Chicago:20250319T140000
LOCATION:via Zoom
SUMMARY:Youth Mental Health First Aid
END:VEVENT
END:VCALENDAR
