BEGIN:VCALENDAR
VERSION:2.0
PRODID:-//communityadvocates.net//NONSGML kigkonsult.se iCalcreator 2.30.10
 //
CALSCALE:GREGORIAN
METHOD:PUBLISH
UID:231b7843-8f14-4c73-a31f-54eb15b6a69d
X-WR-CALDESC:This event is part of Light and Unite Red Week.\n\nThis meetin
 g is scheduled to begin at 6 p.m. and will be held at the Galano Club at 7
 210 W. Greenfield Ave.
X-WR-RELCALID:b1fe39b7f359d3ef5db357d3f749fa2f
X-WR-TIMEZONE:America/Chicago
BEGIN:VTIMEZONE
TZID:America/Chicago
BEGIN:STANDARD
TZNAME:CST
DTSTART:20241103T020000
TZOFFSETFROM:-0500
TZOFFSETTO:-0600
RDATE:20251102T020000
END:STANDARD
BEGIN:DAYLIGHT
TZNAME:CDT
DTSTART:20250309T020000
TZOFFSETFROM:-0600
TZOFFSETTO:-0500
RDATE:20260308T020000
END:DAYLIGHT
END:VTIMEZONE
BEGIN:VEVENT
UID:9844f607-1519-487f-941d-b9a7e6d89a0e
DTSTAMP:20260421T035803Z
DESCRIPTION:This event is part of Light and Unite Red Week.\n\nThis meeting
  is scheduled to begin at 6 p.m. and will be held at the Galano Club at 72
 10 W. Greenfield Ave.
DTSTART;TZID=America/Chicago:20250319T180000
DTEND;TZID=America/Chicago:20250319T190000
LOCATION:Galano Club \, 7210 W. Greenfield Ave.\, Suite 3\, Milwaukee\, WI 
 53214 US
SUMMARY:SMART Recovery Meeting
END:VEVENT
END:VCALENDAR
