BEGIN:VCALENDAR
VERSION:2.0
PRODID:-//communityadvocates.net//NONSGML kigkonsult.se iCalcreator 2.30.10
 //
CALSCALE:GREGORIAN
METHOD:PUBLISH
UID:1f555e34-f8c4-4f37-8af7-6d5df25fa315
X-WR-CALDESC:This event is part of Light and Unite Red Week.\n\nFranklin He
 alth Department and Volition Franklin are hosting Glow-in-the-Dark Yoga on
  Wednesday\, March 19.\n\nIgnite your inner light! Celebrate wellness and 
 positive energy during Light & Unite Red Week. Feel uplifted as you connec
 t with a community of supportive people who are improving their lives by r
 emaining free of drugs and alcohol. This event is free and open to everyon
 e over the age 13. Please bring your own yoga mat.\n\nThe class will be he
 ld from 5:30 to 7:30 p.m. at the Briscoe Family YMCA Wellness Center at 70
 95 S. Ballpark Drive in Franklin.
X-WR-RELCALID:65f148fa3a592723139b574abf0ce654
X-WR-TIMEZONE:America/Chicago
BEGIN:VTIMEZONE
TZID:America/Chicago
BEGIN:STANDARD
TZNAME:CST
DTSTART:20241103T020000
TZOFFSETFROM:-0500
TZOFFSETTO:-0600
RDATE:20251102T020000
END:STANDARD
BEGIN:DAYLIGHT
TZNAME:CDT
DTSTART:20250309T020000
TZOFFSETFROM:-0600
TZOFFSETTO:-0500
RDATE:20260308T020000
END:DAYLIGHT
END:VTIMEZONE
BEGIN:VEVENT
UID:416a16f0-ba43-4799-bf57-cc54550f3680
DTSTAMP:20260421T040931Z
DESCRIPTION:This event is part of Light and Unite Red Week.\n\nFranklin Hea
 lth Department and Volition Franklin are hosting Glow-in-the-Dark Yoga on 
 Wednesday\, March 19.\n\nIgnite your inner light! Celebrate wellness and p
 ositive energy during Light & Unite Red Week. Feel uplifted as you connect
  with a community of supportive people who are improving their lives by re
 maining free of drugs and alcohol. This event is free and open to everyone
  over the age 13. Please bring your own yoga mat.\n\nThe class will be hel
 d from 5:30 to 7:30 p.m. at the Briscoe Family YMCA Wellness Center at 709
 5 S. Ballpark Drive in Franklin.
DTSTART;TZID=America/Chicago:20250319T173000
DTEND;TZID=America/Chicago:20250319T193000
LOCATION:Briscoe Family YMCA Wellness Center\, 7095 S. Ballpark Drive\, Fra
 nklin\, WI 53132 US
SUMMARY:Glow-in-the-Dark Yoga
END:VEVENT
END:VCALENDAR
