BEGIN:VCALENDAR
VERSION:2.0
PRODID:-//communityadvocates.net//NONSGML kigkonsult.se iCalcreator 2.30.10
 //
CALSCALE:GREGORIAN
METHOD:PUBLISH
UID:32157898-1331-4aea-a504-ffe79dcd4f94
X-WR-CALDESC:This event is part of Light and Unite Red Week.\n\nThe Milwauk
 ee Turners hosts a weekly Adult Substance Abuse Recovery Support Circle. C
 ome learn coping skills\, enjoy recreational activities\, and receive supp
 ort from others in recovery!\n\nThis event is scheduled to begin at 5:30 p
 .m. and will be held at Turner Hall at 1040 N. Vel R Phillips Ave.
X-WR-RELCALID:e78dd263710d098568bf02e4cc79d640
X-WR-TIMEZONE:America/Chicago
BEGIN:VTIMEZONE
TZID:America/Chicago
BEGIN:STANDARD
TZNAME:CST
DTSTART:20241103T020000
TZOFFSETFROM:-0500
TZOFFSETTO:-0600
RDATE:20251102T020000
END:STANDARD
BEGIN:DAYLIGHT
TZNAME:CDT
DTSTART:20250309T020000
TZOFFSETFROM:-0600
TZOFFSETTO:-0500
RDATE:20260308T020000
END:DAYLIGHT
END:VTIMEZONE
BEGIN:VEVENT
UID:24812c5d-3e8b-4466-9fa8-6831541b0bd5
DTSTAMP:20260421T035726Z
DESCRIPTION:This event is part of Light and Unite Red Week.\n\nThe Milwauke
 e Turners hosts a weekly Adult Substance Abuse Recovery Support Circle. Co
 me learn coping skills\, enjoy recreational activities\, and receive suppo
 rt from others in recovery!\n\nThis event is scheduled to begin at 5:30 p.
 m. and will be held at Turner Hall at 1040 N. Vel R Phillips Ave.
DTSTART;TZID=America/Chicago:20250318T173000
DTEND;TZID=America/Chicago:20250318T184500
LOCATION:Turner Hall\, 1040 N. Vel R Phillips Ave\, Milwaukee\, WI 53203 US
SUMMARY:Courage in Connections
END:VEVENT
END:VCALENDAR
