BEGIN:VCALENDAR
VERSION:2.0
PRODID:-//communityadvocates.net//NONSGML kigkonsult.se iCalcreator 2.30.10
 //
CALSCALE:GREGORIAN
METHOD:PUBLISH
UID:8bb3cdab-a4e3-4c9f-b68c-6a03e8e91ac1
X-WR-CALDESC:Promote healthy\, substance-free living and support our commun
 ity members by wearing red on Monday\, March 17. Our partners throughout M
 ilwaukee County are lighting up their buildings red as well in honor of th
 e first day of Light and Unite Red Week 2025.\n\nLearn more about and regi
 ster for events throughout the week\, download and and share digital mater
 ials\, and check out resources at https://risedrugfreemke.org/what-we-do/l
 ight-unite-red-week-2025.html
X-WR-RELCALID:23ef94ad431b37a885e19055dc7efa61
X-WR-TIMEZONE:America/Chicago
BEGIN:VTIMEZONE
TZID:America/Chicago
BEGIN:STANDARD
TZNAME:CST
DTSTART:20241103T020000
TZOFFSETFROM:-0500
TZOFFSETTO:-0600
RDATE:20251102T020000
END:STANDARD
BEGIN:DAYLIGHT
TZNAME:CDT
DTSTART:20250309T020000
TZOFFSETFROM:-0600
TZOFFSETTO:-0500
RDATE:20260308T020000
END:DAYLIGHT
END:VTIMEZONE
BEGIN:VEVENT
UID:33110787-22b0-45ab-a2e0-a93e1a93e718
DTSTAMP:20260421T035619Z
DESCRIPTION:Promote healthy\, substance-free living and support our communi
 ty members by wearing red on Monday\, March 17. Our partners throughout Mi
 lwaukee County are lighting up their buildings red as well in honor of the
  first day of Light and Unite Red Week 2025.\n\nLearn more about and regis
 ter for events throughout the week\, download and and share digital materi
 als\, and check out resources at https://risedrugfreemke.org/what-we-do/li
 ght-unite-red-week-2025.html
DTSTART;TZID=America/Chicago:20250317T050000
DTEND;TZID=America/Chicago:20250317T050001
LOCATION:
SUMMARY:Make Milwaukee County Red
END:VEVENT
END:VCALENDAR
