BEGIN:VCALENDAR
VERSION:2.0
PRODID:-//communityadvocates.net//NONSGML kigkonsult.se iCalcreator 2.30.10
 //
CALSCALE:GREGORIAN
METHOD:PUBLISH
UID:9b476161-d71f-47e9-b71f-edd749d48f9d
X-WR-CALDESC:The Empowerment Coalition of Milwaukee (ECOM) is a monthly gat
 hering of social services professionals\, advocates\, and consumers organi
 zed by Community Advocates Public Policy Institute. ECOM explores topics t
 hat are vital to Milwaukee’s human services professionals. Each session fe
 atures multiple presentations from experts and opportunities to share reso
 urces. This month’s topic is Child Abuse and Neglect\, Elder Abuse\, and M
 edicaid.\n\nSessions will be held in person from 9:30 a.m. to 12 noon. The
  location will be shared with registrants before each session.\n\nFee is $
 5 for light refreshments and materials and can be paid via credit card. Re
 gistrations are not refundable. Kindly make sure to RSVP by the Friday pri
 or to each meeting.\n\nOur 2025 ECOM Workshops:\nJanuary 22: Housing\nFebr
 uary 19: Child Abuse and Neglect\, Elder Abuse\, and Medicaid \nMarch 19: 
 Legal Services\nApril 16: W2\, FoodShare\, FSET\, and SSI\nMay 21: Mental 
 Health\nJune 25: LGBTQ+ Services\nJuly 16: Adoption\, Foster Care\, Prenat
 al Services\, and Parenting Support \nAugust 20: Job Services\, Financial 
 Literacy\, and GED \nSeptember 17: Energy Assistance\nOctober 15: Domestic
  Violence\nNovember 19: Veterans Services and Reentry Services\nDecember 1
 7: Planning Session (No fee for this session)
X-WR-RELCALID:ba82384a3f09646f72608da7b3990725
X-WR-TIMEZONE:America/Chicago
BEGIN:VTIMEZONE
TZID:America/Chicago
BEGIN:STANDARD
TZNAME:CST
DTSTART:20241103T020000
TZOFFSETFROM:-0500
TZOFFSETTO:-0600
RDATE:20251102T020000
END:STANDARD
BEGIN:DAYLIGHT
TZNAME:CDT
DTSTART:20240310T020000
TZOFFSETFROM:-0600
TZOFFSETTO:-0500
RDATE:20250309T020000
RDATE:20260308T020000
END:DAYLIGHT
END:VTIMEZONE
BEGIN:VEVENT
UID:3aed1eae-ba05-4670-bb09-660fc661b03a
DTSTAMP:20260421T053141Z
DESCRIPTION:The Empowerment Coalition of Milwaukee (ECOM) is a monthly gath
 ering of social services professionals\, advocates\, and consumers organiz
 ed by Community Advocates Public Policy Institute. ECOM explores topics th
 at are vital to Milwaukee’s human services professionals. Each session fea
 tures multiple presentations from experts and opportunities to share resou
 rces. This month’s topic is Child Abuse and Neglect\, Elder Abuse\, and Me
 dicaid.\n\nSessions will be held in person from 9:30 a.m. to 12 noon. The 
 location will be shared with registrants before each session.\n\nFee is $5
  for light refreshments and materials and can be paid via credit card. Reg
 istrations are not refundable. Kindly make sure to RSVP by the Friday prio
 r to each meeting.\n\nOur 2025 ECOM Workshops:\nJanuary 22: Housing\nFebru
 ary 19: Child Abuse and Neglect\, Elder Abuse\, and Medicaid \nMarch 19: L
 egal Services\nApril 16: W2\, FoodShare\, FSET\, and SSI\nMay 21: Mental H
 ealth\nJune 25: LGBTQ+ Services\nJuly 16: Adoption\, Foster Care\, Prenata
 l Services\, and Parenting Support \nAugust 20: Job Services\, Financial L
 iteracy\, and GED \nSeptember 17: Energy Assistance\nOctober 15: Domestic 
 Violence\nNovember 19: Veterans Services and Reentry Services\nDecember 17
 : Planning Session (No fee for this session)
DTSTART;TZID=America/Chicago:20250219T090000
DTEND;TZID=America/Chicago:20250219T120000
LOCATION:Neu-Life Community Development \, 2014 W. North Avenue \, Milwauke
 e\, WI 53205 US
SUMMARY:ECOM Workshop: Child Abuse and Neglect\, Elder Abuse\, and Medicaid
END:VEVENT
END:VCALENDAR
