BEGIN:VCALENDAR
VERSION:2.0
PRODID:-//communityadvocates.net//NONSGML kigkonsult.se iCalcreator 2.30.10
 //
CALSCALE:GREGORIAN
METHOD:PUBLISH
UID:9fb96329-3fe9-406c-8d01-ff1347673c95
X-WR-CALDESC:Please Note: The Adult Mental Health First Aid course consists
  of two hours of self-paced content followed by six hours of instructor-le
 d training. The self-paced computer training must be completed at least th
 ree days prior to the beginning of the course and the one-hour self-paced 
 post session computer training must be completed as well in order for atte
 ndees to obtain certification. Registration ends February 14 at 12 noon.\n
 \nMental Health First Aid teaches you how to identify\, understand and res
 pond to signs of mental illness and substance use disorders. This training
  gives you the skills you need to reach out and provide initial support to
  someone who may be developing a mental health or substance use problem an
 d help connect them to the appropriate care.\n\nWhat the Mental Health Fir
 st Aid Course offers:\n• Common signs and symptoms of mental illness\n• Co
 mmon signs and symptoms of substance use\n• How to interact with a person 
 in crisis\n• How to connect the person with help\n• Content on trauma\, ad
 diction\, and self-care\n\nThe course will teach you how to apply the ALGE
 E action plan:\n• Assess for risk of suicide or harm.\n• Listen nonjudgmen
 tally.\n• Give reassurance and information.\n• Encourage appropriate profe
 ssional help.\n• Encourage self-help and other support strategies.\n\nThis
  session is free and open to everyone. We appreciate your interest in lear
 ning more about mental health and wellness.
X-WR-RELCALID:31d6cf6cf4f7ad6eafbcd5d5a1420cce
X-WR-TIMEZONE:America/Chicago
BEGIN:VTIMEZONE
TZID:America/Chicago
BEGIN:STANDARD
TZNAME:CST
DTSTART:20241103T020000
TZOFFSETFROM:-0500
TZOFFSETTO:-0600
RDATE:20251102T020000
END:STANDARD
BEGIN:DAYLIGHT
TZNAME:CDT
DTSTART:20240310T020000
TZOFFSETFROM:-0600
TZOFFSETTO:-0500
RDATE:20250309T020000
RDATE:20260308T020000
END:DAYLIGHT
END:VTIMEZONE
BEGIN:VEVENT
UID:466ed8f3-9242-4d82-9832-fa217c7a5593
DTSTAMP:20260421T053442Z
DESCRIPTION:Please Note: The Adult Mental Health First Aid course consists 
 of two hours of self-paced content followed by six hours of instructor-led
  training. The self-paced computer training must be completed at least thr
 ee days prior to the beginning of the course and the one-hour self-paced p
 ost session computer training must be completed as well in order for atten
 dees to obtain certification. Registration ends February 14 at 12 noon.\n
 \nMental Health First Aid teaches you how to identify\, understand and res
 pond to signs of mental illness and substance use disorders. This training
  gives you the skills you need to reach out and provide initial support to
  someone who may be developing a mental health or substance use problem an
 d help connect them to the appropriate care.\n\nWhat the Mental Health Fir
 st Aid Course offers:\n• Common signs and symptoms of mental illness\n• Co
 mmon signs and symptoms of substance use\n• How to interact with a person 
 in crisis\n• How to connect the person with help\n• Content on trauma\, ad
 diction\, and self-care\n\nThe course will teach you how to apply the ALGE
 E action plan:\n• Assess for risk of suicide or harm.\n• Listen nonjudgmen
 tally.\n• Give reassurance and information.\n• Encourage appropriate profe
 ssional help.\n• Encourage self-help and other support strategies.\n\nThis
  session is free and open to everyone. We appreciate your interest in lear
 ning more about mental health and wellness.
DTSTART;TZID=America/Chicago:20250218T090000
DTEND;TZID=America/Chicago:20250218T153000
LOCATION:Via Zoom
SUMMARY:Adult Mental Health First Aid | February 18\, 2025
END:VEVENT
END:VCALENDAR
