BEGIN:VCALENDAR
VERSION:2.0
PRODID:-//communityadvocates.net//NONSGML kigkonsult.se iCalcreator 2.30.10
 //
CALSCALE:GREGORIAN
METHOD:PUBLISH
UID:7cf6e4f7-3c0c-493c-b893-af18f945ba87
X-WR-CALDESC:As a result of this workshop\, participants will gain a better
  understanding as to how trauma affects the brain\, discuss risk factors f
 or substance use disorders\, and develop their strategy for intervention m
 ethods for a particular population.\n\nWhat we will discuss:\n+ Trauma def
 inition\n+ How trauma affects the brain\n+ Statistics on substance use and
  ACEs\n+ Risk factors\n+ Strategies for care\n+ Stress reducers\n+ Priorit
 izing Risk Factors\n+ Beginning a Call to Action\n\nThis session is free a
 nd open to everyone. We appreciate your interest in learning more about me
 ntal health and wellness.
X-WR-RELCALID:d6dd5f69a0b330155ca54f94205c576a
X-WR-TIMEZONE:America/Chicago
BEGIN:VTIMEZONE
TZID:America/Chicago
BEGIN:STANDARD
TZNAME:CST
DTSTART:20241103T020000
TZOFFSETFROM:-0500
TZOFFSETTO:-0600
RDATE:20251102T020000
END:STANDARD
BEGIN:DAYLIGHT
TZNAME:CDT
DTSTART:20240310T020000
TZOFFSETFROM:-0600
TZOFFSETTO:-0500
RDATE:20250309T020000
RDATE:20260308T020000
END:DAYLIGHT
END:VTIMEZONE
BEGIN:VEVENT
UID:58633748-0bf5-4ce9-877f-c0a7e5512731
DTSTAMP:20260421T053019Z
DESCRIPTION:As a result of this workshop\, participants will gain a better 
 understanding as to how trauma affects the brain\, discuss risk factors fo
 r substance use disorders\, and develop their strategy for intervention me
 thods for a particular population.\n\nWhat we will discuss:\n+ Trauma defi
 nition\n+ How trauma affects the brain\n+ Statistics on substance use and 
 ACEs\n+ Risk factors\n+ Strategies for care\n+ Stress reducers\n+ Prioriti
 zing Risk Factors\n+ Beginning a Call to Action\n\nThis session is free an
 d open to everyone. We appreciate your interest in learning more about men
 tal health and wellness.
DTSTART;TZID=America/Chicago:20250205T100000
DTEND;TZID=America/Chicago:20250205T113000
LOCATION:Via Zoom
SUMMARY:Trauma and the Brain: An Introduction | February 5\, 2025
END:VEVENT
END:VCALENDAR
