BEGIN:VCALENDAR
VERSION:2.0
PRODID:-//communityadvocates.net//NONSGML kigkonsult.se iCalcreator 2.30.10
 //
CALSCALE:GREGORIAN
METHOD:PUBLISH
UID:7e0dcd79-bf8e-4ec6-9bf1-48afd3e2de8b
X-WR-CALDESC:¡Evento Gratuito y abierto a la comunidad! \nEl evento será en
  español\, con interpretación en inglés.\n\nEscucha tus Emociones les invi
 ta a este evento de sanación emocional con la Psicóloga Ana Paula Soares. 
 Dese un espacio para sanar su corazón\, para escuchar y ser escuchado. El 
 enfoque de este círculo será “Redefinir Resiliencia\, Enraizar en la Sabid
 uría y la Ternura Ancestral.” Este evento está diseñado para la audiencia 
 adulta y no cuenta con cuidado de niñes. Se servirán refrigerios saludable
 s.\n\nEscucha tus Emociones es una iniciativa comunitaria bilingüe en espa
 ñol/inglés de salud mental que enfatiza la importancia de desestigmatizar 
 las conversaciones y proporcionar conocimiento\, recursos comunitarios y h
 erramientas prácticas para apoyar la salud mental y el bienestar.\n\nEl cí
 rculo de curación será gratuito para la comunidad gracias al apoyo y finan
 ciación de Community Advocates y Better Ways to Cope.\n\nRegístrese en el 
 enlace para garantizar su espacio para este círculo. Para tener una experi
 encia completa\, por favor llega a tiempo y quédate hasta el final del eve
 nto.\n\n¿Preguntas? --> escuchatusemocionesinfo@gmail.com\n\n[English text
 ]\n\nFriday\, January 31st \, 6:30pm - 9:00pm\nKosciuszko Community Center
 \n2201 S. 7th St. Milwaukee\, WI 53215\n\nFree and open to the community! 
 \nThis event will be held in Spanish with English interpretation provided.
 \n\nEscucha tus Emociones invites you to this emotional healing opportunit
 y with Psychologist Ana Paula Soares. Give yourself the space to heal your
  heart\, to listen\, and to be heard. The focus of this circle will be “Re
 defining Resilience\, Rooting in Ancestral Wisdom and Tenderness.” This ev
 ent is designed for an adult audience and does not offer childcare. Health
 y snacks will be served.\n\nEscucha tus Emociones is a bilingual (Spanish/
 English) mental health community initiative that focuses on the importance
  of destigmatizing conversations and providing knowledge\, community resou
 rces and practical tools to support mental health and wellbeing.\n\nThe he
 aling circle will be free to the community thanks to the support and fundi
 ng of Community Advocates and Better Ways to Cope. \n\nPlease register at 
 the link to guarantee your space for this circle. To have a full experienc
 e\, please arrive on time and stay until the end of the event.\n\n¿Questio
 ns? --> escuchatusemocionesinfo@gmail.com
X-WR-RELCALID:9fe1f421f7a407b1e64fbfcc5d41667a
X-WR-TIMEZONE:America/Chicago
BEGIN:VTIMEZONE
TZID:America/Chicago
BEGIN:STANDARD
TZNAME:CST
DTSTART:20241103T020000
TZOFFSETFROM:-0500
TZOFFSETTO:-0600
RDATE:20251102T020000
END:STANDARD
BEGIN:DAYLIGHT
TZNAME:CDT
DTSTART:20240310T020000
TZOFFSETFROM:-0600
TZOFFSETTO:-0500
RDATE:20250309T020000
RDATE:20260308T020000
END:DAYLIGHT
END:VTIMEZONE
BEGIN:VEVENT
UID:6deb731a-d3c5-486f-9501-69621a7bcb5f
DTSTAMP:20260421T065854Z
DESCRIPTION:¡Evento Gratuito y abierto a la comunidad! \nEl evento será en 
 español\, con interpretación en inglés.\n\nEscucha tus Emociones les invit
 a a este evento de sanación emocional con la Psicóloga Ana Paula Soares. D
 ese un espacio para sanar su corazón\, para escuchar y ser escuchado. El e
 nfoque de este círculo será “Redefinir Resiliencia\, Enraizar en la Sabidu
 ría y la Ternura Ancestral.” Este evento está diseñado para la audiencia a
 dulta y no cuenta con cuidado de niñes. Se servirán refrigerios saludables
 .\n\nEscucha tus Emociones es una iniciativa comunitaria bilingüe en españ
 ol/inglés de salud mental que enfatiza la importancia de desestigmatizar l
 as conversaciones y proporcionar conocimiento\, recursos comunitarios y he
 rramientas prácticas para apoyar la salud mental y el bienestar.\n\nEl cír
 culo de curación será gratuito para la comunidad gracias al apoyo y financ
 iación de Community Advocates y Better Ways to Cope.\n\nRegístrese en el e
 nlace para garantizar su espacio para este círculo. Para tener una experie
 ncia completa\, por favor llega a tiempo y quédate hasta el final del even
 to.\n\n¿Preguntas? --> escuchatusemocionesinfo@gmail.com\n\n[English text]
 \n\nFriday\, January 31st \, 6:30pm - 9:00pm\nKosciuszko Community Center
 \n2201 S. 7th St. Milwaukee\, WI 53215\n\nFree and open to the community! 
 \nThis event will be held in Spanish with English interpretation provided.
 \n\nEscucha tus Emociones invites you to this emotional healing opportunit
 y with Psychologist Ana Paula Soares. Give yourself the space to heal your
  heart\, to listen\, and to be heard. The focus of this circle will be “Re
 defining Resilience\, Rooting in Ancestral Wisdom and Tenderness.” This ev
 ent is designed for an adult audience and does not offer childcare. Health
 y snacks will be served.\n\nEscucha tus Emociones is a bilingual (Spanish/
 English) mental health community initiative that focuses on the importance
  of destigmatizing conversations and providing knowledge\, community resou
 rces and practical tools to support mental health and wellbeing.\n\nThe he
 aling circle will be free to the community thanks to the support and fundi
 ng of Community Advocates and Better Ways to Cope. \n\nPlease register at 
 the link to guarantee your space for this circle. To have a full experienc
 e\, please arrive on time and stay until the end of the event.\n\n¿Questio
 ns? --> escuchatusemocionesinfo@gmail.com
DTSTART;TZID=America/Chicago:20250131T183000
DTEND;TZID=America/Chicago:20250131T210000
LOCATION:Kosciuszko Community Center\, 2201 S. 7th Street\, Milwaukee\, WI 
 53215 US
SUMMARY:Escucha tus Emociones Circulo de Sanacion
END:VEVENT
END:VCALENDAR
