BEGIN:VCALENDAR
VERSION:2.0
PRODID:-//communityadvocates.net//NONSGML kigkonsult.se iCalcreator 2.30.10
 //
CALSCALE:GREGORIAN
METHOD:PUBLISH
UID:45846f1b-96bc-49d0-9152-90a8a991031e
X-WR-CALDESC:In 2022 and 2024\, the City of Milwaukee Tobacco Free Alliance
  surveyed PrideFest attendees about their use of commercial tobacco and ot
 her substances. Now\, the results are in. Join CoMTFA’s Coordinator\, Char
 lie Leonard\, to learn about substance use trends and why it’s important t
 o include gender and sexually diverse people in data collection.
X-WR-RELCALID:db70c50abdf4ce48bbcc8a7ea8ee2476
X-WR-TIMEZONE:America/Chicago
BEGIN:VTIMEZONE
TZID:America/Chicago
BEGIN:STANDARD
TZNAME:CST
DTSTART:20241103T020000
TZOFFSETFROM:-0500
TZOFFSETTO:-0600
RDATE:20251102T020000
END:STANDARD
BEGIN:DAYLIGHT
TZNAME:CDT
DTSTART:20240310T020000
TZOFFSETFROM:-0600
TZOFFSETTO:-0500
RDATE:20250309T020000
RDATE:20260308T020000
END:DAYLIGHT
END:VTIMEZONE
BEGIN:VEVENT
UID:9825c944-9f05-4c19-8e63-808f86bfca49
DTSTAMP:20260421T065839Z
DESCRIPTION:In 2022 and 2024\, the City of Milwaukee Tobacco Free Alliance 
 surveyed PrideFest attendees about their use of commercial tobacco and oth
 er substances. Now\, the results are in. Join CoMTFA’s Coordinator\, Charl
 ie Leonard\, to learn about substance use trends and why it’s important to
  include gender and sexually diverse people in data collection.
DTSTART;TZID=America/Chicago:20250130T100000
DTEND;TZID=America/Chicago:20250130T110000
LOCATION:Community Advocates \, 728 N. James Lovell Street\, Milwaukee\, WI
  53233 US
SUMMARY:New Data on Commercial Tobacco and Cannabis Use in Wisconsin's LGBT
 Q+ Community
END:VEVENT
END:VCALENDAR
