BEGIN:VCALENDAR
VERSION:2.0
PRODID:-//communityadvocates.net//NONSGML kigkonsult.se iCalcreator 2.30.10
 //
CALSCALE:GREGORIAN
METHOD:PUBLISH
UID:6b64a598-d214-47fd-ba9e-7301db998dd3
X-WR-CALDESC:The Empowerment Coalition of Milwaukee (ECOM) is a monthly gat
 hering of social services professionals\, advocates\, and consumers organi
 zed by Community Advocates Public Policy Institute. ECOM explores topics t
 hat are vital to Milwaukee’s human services professionals. Each session fe
 atures multiple presentations from experts and opportunities to share reso
 urces. This month’s topic is Housing.\n\nSessions will be held in person f
 rom 9:30 a.m. to 12 noon. The location will be shared with registrants bef
 ore each session.\n\nFee is $5 for light refreshments and materials and ca
 n be paid via credit card. Registrations are not refundable. Kindly make s
 ure to RSVP by the Friday prior to each meeting. \n\nOur 2025 ECOM Worksho
 ps:\nJanuary 22: Housing\nFebruary 19: Child Abuse and Neglect\, Elder Abu
 se\, and Medicaid \nMarch 19: Legal Services\nApril 16: W2\, FoodShare\, F
 SET\, and SSI\nMay 21: Mental Health\nJune 25: LGBTQ+ Services\nJuly 16: A
 doption\, Foster Care\, Prenatal Services\, and Parenting Support \nAugust
  20: Job Services\, Financial Literacy\, and GED \nSeptember 17: Energy As
 sistance\nOctober 15: Domestic Violence\nNovember 19: Veterans Services an
 d Reentry Services\nDecember 17: Planning Session (No fee for this session
 )
X-WR-RELCALID:459f6f21b7c433ec36c47f72e19f7ae8
X-WR-TIMEZONE:America/Chicago
BEGIN:VTIMEZONE
TZID:America/Chicago
BEGIN:STANDARD
TZNAME:CST
DTSTART:20241103T020000
TZOFFSETFROM:-0500
TZOFFSETTO:-0600
RDATE:20251102T020000
END:STANDARD
BEGIN:DAYLIGHT
TZNAME:CDT
DTSTART:20240310T020000
TZOFFSETFROM:-0600
TZOFFSETTO:-0500
RDATE:20250309T020000
RDATE:20260308T020000
END:DAYLIGHT
END:VTIMEZONE
BEGIN:VEVENT
UID:c855d327-e89c-4b74-80f0-c42404a4a306
DTSTAMP:20260421T065855Z
DESCRIPTION:The Empowerment Coalition of Milwaukee (ECOM) is a monthly gath
 ering of social services professionals\, advocates\, and consumers organiz
 ed by Community Advocates Public Policy Institute. ECOM explores topics th
 at are vital to Milwaukee’s human services professionals. Each session fea
 tures multiple presentations from experts and opportunities to share resou
 rces. This month’s topic is Housing.\n\nSessions will be held in person fr
 om 9:30 a.m. to 12 noon. The location will be shared with registrants befo
 re each session.\n\nFee is $5 for light refreshments and materials and can
  be paid via credit card. Registrations are not refundable. Kindly make su
 re to RSVP by the Friday prior to each meeting. \n\nOur 2025 ECOM Workshop
 s:\nJanuary 22: Housing\nFebruary 19: Child Abuse and Neglect\, Elder Abus
 e\, and Medicaid \nMarch 19: Legal Services\nApril 16: W2\, FoodShare\, FS
 ET\, and SSI\nMay 21: Mental Health\nJune 25: LGBTQ+ Services\nJuly 16: Ad
 option\, Foster Care\, Prenatal Services\, and Parenting Support \nAugust 
 20: Job Services\, Financial Literacy\, and GED \nSeptember 17: Energy Ass
 istance\nOctober 15: Domestic Violence\nNovember 19: Veterans Services and
  Reentry Services\nDecember 17: Planning Session (No fee for this session)
DTSTART;TZID=America/Chicago:20250122T093000
DTEND;TZID=America/Chicago:20250122T120000
LOCATION:Community Advocates\, 728 N. James Lovell Street\, Milwaukee\, WI 
 53233 US
SUMMARY:ECOM Workshop: Housing
END:VEVENT
END:VCALENDAR
