BEGIN:VCALENDAR
VERSION:2.0
PRODID:-//communityadvocates.net//NONSGML kigkonsult.se iCalcreator 2.30.10
 //
CALSCALE:GREGORIAN
METHOD:PUBLISH
UID:5c1926d2-632d-4e97-8fa4-72bb1ecd51de
X-WR-CALDESC:<b>Please Note:  The Youth Mental Health First Aid course cons
 ists of two hours of self-paced content followed by 4.5 hours of instructo
 r-led training. The self-paced computer training must be completed at leas
 t three days prior to the beginning of the course and the one-hour self-pa
 ced post session computer training must be completed as well in order for 
 attendees to obtain certification. Registration ends September 30 at 12 no
 on.</b>\n\n<b>All attendees are required to provide a $25 deposit to reser
 ve their spot in this course. The deposit will be returned to those who at
 tend and live or work in Milwaukee County. Those who do not attend\, or th
 ose who do not live or work in Milwaukee County\, will not receive a refun
 d.</b>\n\nYouth Mental Health First Aid is designed to teach parents\, fam
 ily members\, caregivers\, teachers\, school staff\, peers\, neighbors\, h
 ealth and human services workers\, and other caring citizens how to help a
 n adolescent (age 12-18) who is experiencing a mental health or addictions
  challenge or is in crisis.\n\nThe course introduces common mental health 
 challenges for youth\, reviews typical adolescent development\, and teache
 s a 5-step action plan for how to help young people in both crisis and non
 -crisis situations. \n\nTopics covered include:\n+ Anxiety\n+ Depression\n
 + Substance use\n+ Disorders in which psychosis may occur\n+ Disruptive be
 havior disorders (including AD/HD)\n+ Eating disorders\n\n<b>All attendees
  are required to provide a $25 deposit to reserve their spot in this cours
 e. The deposit will be returned to those who attend and live or work in Mi
 lwaukee County. Those who do not attend\, or those who do not live or work
  in Milwaukee County\, will not receive a refund. If you need help with yo
 ur deposit\, kindly contact Gloria Marfo at the email below.</b>
X-WR-RELCALID:a8b2ee7e642ebd5d14083610551df17f
X-WR-TIMEZONE:America/Chicago
BEGIN:VTIMEZONE
TZID:America/Chicago
BEGIN:STANDARD
TZNAME:CST
DTSTART:20211107T020000
TZOFFSETFROM:-0500
TZOFFSETTO:-0600
RDATE:20221106T020000
RDATE:20231105T020000
END:STANDARD
BEGIN:DAYLIGHT
TZNAME:CDT
DTSTART:20220313T020000
TZOFFSETFROM:-0600
TZOFFSETTO:-0500
RDATE:20230312T020000
RDATE:20240310T020000
END:DAYLIGHT
END:VTIMEZONE
BEGIN:VEVENT
UID:e4711c3c-2ca7-4690-94b2-81cf1044bd27
DTSTAMP:20260421T231552Z
DESCRIPTION:<b>Please Note:  The Youth Mental Health First Aid course consi
 sts of two hours of self-paced content followed by 4.5 hours of instructor
 -led training. The self-paced computer training must be completed at least
  three days prior to the beginning of the course and the one-hour self-pac
 ed post session computer training must be completed as well in order for a
 ttendees to obtain certification. Registration ends September 30 at 12 noo
 n.</b>\n\n<b>All attendees are required to provide a $25 deposit to reserv
 e their spot in this course. The deposit will be returned to those who att
 end and live or work in Milwaukee County. Those who do not attend\, or tho
 se who do not live or work in Milwaukee County\, will not receive a refund
 .</b>\n\nYouth Mental Health First Aid is designed to teach parents\, fami
 ly members\, caregivers\, teachers\, school staff\, peers\, neighbors\, he
 alth and human services workers\, and other caring citizens how to help an
  adolescent (age 12-18) who is experiencing a mental health or addictions 
 challenge or is in crisis.\n\nThe course introduces common mental health c
 hallenges for youth\, reviews typical adolescent development\, and teaches
  a 5-step action plan for how to help young people in both crisis and non-
 crisis situations. \n\nTopics covered include:\n+ Anxiety\n+ Depression\n+
  Substance use\n+ Disorders in which psychosis may occur\n+ Disruptive beh
 avior disorders (including AD/HD)\n+ Eating disorders\n\n<b>All attendees 
 are required to provide a $25 deposit to reserve their spot in this course
 . The deposit will be returned to those who attend and live or work in Mil
 waukee County. Those who do not attend\, or those who do not live or work 
 in Milwaukee County\, will not receive a refund. If you need help with you
 r deposit\, kindly contact Gloria Marfo at the email below.</b>
DTSTART;TZID=America/Chicago:20221007T090000
DTEND;TZID=America/Chicago:20221007T153000
LOCATION:via Zoom
SUMMARY:Youth Mental Health First Aid | October 7\, 2022
END:VEVENT
END:VCALENDAR
