BEGIN:VCALENDAR
VERSION:2.0
PRODID:-//communityadvocates.net//NONSGML kigkonsult.se iCalcreator 2.30.10
 //
CALSCALE:GREGORIAN
METHOD:PUBLISH
UID:fae2d6c2-0973-42f3-8802-8913bdf3727e
X-WR-CALDESC:<b>Please Note: The Adult Mental Health First Aid course consi
 sts of two hours of self-paced content followed by 6.5 hours of instructor
 -led training. The self-paced computer training must be completed at least
  three days prior to the beginning of the course and the one-hour self-pac
 ed post session computer training must be completed as well in order for a
 ttendees to obtain certification. Registration ends September 27 at 12 noo
 n.</b>\n\n<b>All attendees are required to provide a $25 deposit to reserv
 e their spot in this course. The deposit will be returned to those who att
 end and live or work in Milwaukee County. Those who do not attend\, or tho
 se who do not live or work in Milwaukee County\, will not receive a refund
 .</b>\n\nMental Health First Aid teaches you how to identify\, understand 
 and respond to signs of mental illness and substance use disorders. This t
 raining gives you the skills you need to reach out and provide initial sup
 port to someone who may be developing a mental health or substance use pro
 blem and help connect them to the appropriate care.\n\nWhat the Mental Hea
 lth First Aid Course offers:\nâ€¢ Common signs and symptoms of mental illnes
 s\nâ€¢ Common signs and symptoms of substance use\nâ€¢ How to interact with a 
 person in crisis\nâ€¢ How to connect the person with help\nâ€¢ Content on trau
 ma\, addiction\, and self-care\n\nThe course will teach you how to apply t
 he ALGEE action plan:\nâ€¢ Assess for risk of suicide or harm.\nâ€¢ Listen non
 judgmentally.\nâ€¢ Give reassurance and information.\nâ€¢ Encourage appropriat
 e professional help.\nâ€¢ Encourage self-help and other support strategies.
 \n\n<b>All attendees are required to provide a $25 deposit to reserve thei
 r spot in this course. The deposit will be returned to those who attend an
 d live or work in Milwaukee County. Those who do not attend\, or those who
  do not live or work in Milwaukee County\, will not receive a refund. If y
 ou need help with your deposit\, kindly contact Rita Liesiefsky at the ema
 il below.</b>
X-WR-RELCALID:0951bac8c0d59276e0b6db4cc36c2f14
X-WR-TIMEZONE:America/Chicago
BEGIN:VTIMEZONE
TZID:America/Chicago
BEGIN:STANDARD
TZNAME:CST
DTSTART:20211107T020000
TZOFFSETFROM:-0500
TZOFFSETTO:-0600
RDATE:20221106T020000
RDATE:20231105T020000
END:STANDARD
BEGIN:DAYLIGHT
TZNAME:CDT
DTSTART:20220313T020000
TZOFFSETFROM:-0600
TZOFFSETTO:-0500
RDATE:20230312T020000
RDATE:20240310T020000
END:DAYLIGHT
END:VTIMEZONE
BEGIN:VEVENT
UID:9990b85a-1b6b-4a05-829d-ee6d5cb2ef11
DTSTAMP:20260421T231854Z
DESCRIPTION:<b>Please Note: The Adult Mental Health First Aid course consis
 ts of two hours of self-paced content followed by 6.5 hours of instructor-
 led training. The self-paced computer training must be completed at least 
 three days prior to the beginning of the course and the one-hour self-pace
 d post session computer training must be completed as well in order for at
 tendees to obtain certification. Registration ends September 27 at 12 noon
 .</b>\n\n<b>All attendees are required to provide a $25 deposit to reserve
  their spot in this course. The deposit will be returned to those who atte
 nd and live or work in Milwaukee County. Those who do not attend\, or thos
 e who do not live or work in Milwaukee County\, will not receive a refund.
 </b>\n\nMental Health First Aid teaches you how to identify\, understand a
 nd respond to signs of mental illness and substance use disorders. This tr
 aining gives you the skills you need to reach out and provide initial supp
 ort to someone who may be developing a mental health or substance use prob
 lem and help connect them to the appropriate care.\n\nWhat the Mental Heal
 th First Aid Course offers:\nâ€¢ Common signs and symptoms of mental illness
 \nânâ Common signs and symptoms of substance use\nâ€¢ How to interact with a p
 erson in crisis\nâ€¢ How to connect the person with help\nâ€¢ Content on traum
 a\, addiction\, and self-care\n\nThe course will teach you how to apply th
 e ALGEE action plan:\nâ€¢ Assess for risk of suicide or harm.\nâ€¢ Listen nonj
 udgmentally.\nâ€¢ Give reassurance and information.\nâ€¢ Encourage appropriate
  professional help.\nâ€¢ Encourage self-help and other support strategies.\n
 \n<b>All attendees are required to provide a $25 deposit to reserve their 
 spot in this course. The deposit will be returned to those who attend and 
 live or work in Milwaukee County. Those who do not attend\, or those who d
 o not live or work in Milwaukee County\, will not receive a refund. If you
  need help with your deposit\, kindly contact Rita Liesiefsky at the email
  below.</b>
DTSTART;TZID=America/Chicago:20221004T090000
DTEND;TZID=America/Chicago:20221004T160000
LOCATION:via Zoom
SUMMARY:Adult Mental Health First Aid | October 4\, 2022
END:VEVENT
END:VCALENDAR
