BEGIN:VCALENDAR
VERSION:2.0
PRODID:-//communityadvocates.net//NONSGML kigkonsult.se iCalcreator 2.30.10
 //
CALSCALE:GREGORIAN
METHOD:PUBLISH
UID:844b6602-7737-474e-8852-6415c85b364e
X-WR-CALDESC:<b>Please Note: The Adult Mental Health First Aid course consi
 sts of a 2-hours of self-paced content followed by a 6.5 hours of instruct
 or-led training. The self-paced computer training must be completed at lea
 st 3 days prior to the beginning of the course and the 1 hour self-paced p
 ost session computer training must be completed as well in order for atten
 dees to obtain certification. Registration ends June 21.</b>\n\nMental Hea
 lth First Aid teaches you how to identify\, understand and respond to sign
 s of mental illness and substance use disorders. This training gives you t
 he skills you need to reach out and provide initial support to someone who
  may be developing a mental health or substance use problem and help conne
 ct them to the appropriate care.\n\nWhat the Mental Health First Aid Cours
 e offers:\nâ€¢ Common signs and symptoms of mental illness\nâ€¢ Common signs a
 nd symptoms of substance use\nâ€¢ How to interact with a person in crisis\nâ€¢
  How to connect the person with help\nâ€¢ Content on trauma\, addiction\, an
 d self-care\n\nThe course will teach you how to apply the ALGEE action pla
 n:\nâ€¢ Assess for risk of suicide or harm.\nâ€¢ Listen nonjudgmentally.\nâ€¢ Gi
 ve reassurance and information.\nâ€¢ Encourage appropriate professional help
 .\nâ€¢ Encourage self-help and other support strategies.\n\n<b>Class size is
  limited. This workshop is open to Milwaukee County residents and those wh
 o work with them.</b>
X-WR-RELCALID:468a9a23c81d2dcb0550dcd2126d0800
X-WR-TIMEZONE:America/Chicago
BEGIN:VTIMEZONE
TZID:America/Chicago
BEGIN:STANDARD
TZNAME:CST
DTSTART:20211107T020000
TZOFFSETFROM:-0500
TZOFFSETTO:-0600
RDATE:20221106T020000
RDATE:20231105T020000
END:STANDARD
BEGIN:DAYLIGHT
TZNAME:CDT
DTSTART:20220313T020000
TZOFFSETFROM:-0600
TZOFFSETTO:-0500
RDATE:20230312T020000
END:DAYLIGHT
END:VTIMEZONE
BEGIN:VEVENT
UID:f6640978-0869-46d3-ac52-bd967c2801be
DTSTAMP:20260421T160922Z
DESCRIPTION:<b>Please Note: The Adult Mental Health First Aid course consis
 ts of a 2-hours of self-paced content followed by a 6.5 hours of instructo
 r-led training. The self-paced computer training must be completed at leas
 t 3 days prior to the beginning of the course and the 1 hour self-paced po
 st session computer training must be completed as well in order for attend
 ees to obtain certification. Registration ends June 21.</b>\n\nMental Heal
 th First Aid teaches you how to identify\, understand and respond to signs
  of mental illness and substance use disorders. This training gives you th
 e skills you need to reach out and provide initial support to someone who 
 may be developing a mental health or substance use problem and help connec
 t them to the appropriate care.\n\nWhat the Mental Health First Aid Course
  offers:\nâ€¢ Common signs and symptoms of mental illness\nâ€¢ Common signs an
 d symptoms of substance use\nâ€¢ How to interact with a person in crisis\nâ€¢ 
 How to connect the person with help\nâ€¢ Content on trauma\, addiction\, and
  self-care\n\nThe course will teach you how to apply the ALGEE action plan
 :\nâ€¢ Assess for risk of suicide or harm.\nâ€¢ Listen nonjudgmentally.\nâ€¢ Giv
 e reassurance and information.\nâ€¢ Encourage appropriate professional help.
 \nânâ Encourage self-help and other support strategies.\n\n<b>Class size is 
 limited. This workshop is open to Milwaukee County residents and those who
  work with them.</b>
DTSTART;TZID=America/Chicago:20220628T090000
DTEND;TZID=America/Chicago:20220628T160000
LOCATION:via Zoom
SUMMARY:Adult Mental Health First Aid
END:VEVENT
END:VCALENDAR
